0.2500000000
0.0000000000
0.0000000000
-0.2500000000
450269.6250000000
315298.1250000000
