0.2500000000
0.0000000000
0.0000000000
-0.2500000000
450358.3750000000
317574.6250000000
