0.2500000000
0.0000000000
0.0000000000
-0.2500000000
446903.8750000000
315429.6250000000
