0.2500000000
0.0000000000
0.0000000000
-0.2500000000
446993.1250000000
317706.1250000000
