0.2500000000
0.0000000000
0.0000000000
-0.2500000000
443538.1250000000
315561.6250000000
