0.2500000000
0.0000000000
0.0000000000
-0.2500000000
443627.6250000000
317838.1250000000
