0.2500000000
0.0000000000
0.0000000000
-0.2500000000
440172.6250000000
315694.1250000000
