0.2500000000
0.0000000000
0.0000000000
-0.2500000000
440262.3750000000
317970.6250000000
