0.2500000000
0.0000000000
0.0000000000
-0.2500000000
436806.8750000000
315827.1250000000
