0.2500000000
0.0000000000
0.0000000000
-0.2500000000
436896.8750000000
318103.6250000000
