0.2500000000
0.0000000000
0.0000000000
-0.2500000000
450447.1250000000
319851.1250000000
