0.2500000000
0.0000000000
0.0000000000
-0.2500000000
450535.8750000000
322127.6250000000
