0.2500000000
0.0000000000
0.0000000000
-0.2500000000
447082.1250000000
319982.6250000000
