0.2500000000
0.0000000000
0.0000000000
-0.2500000000
447171.3750000000
322259.1250000000
