0.2500000000
0.0000000000
0.0000000000
-0.2500000000
443717.1250000000
320114.6250000000
