0.2500000000
0.0000000000
0.0000000000
-0.2500000000
443806.6250000000
322391.1250000000
