0.2500000000
0.0000000000
0.0000000000
-0.2500000000
440352.1250000000
320247.1250000000
