0.2500000000
0.0000000000
0.0000000000
-0.2500000000
440441.8750000000
322523.3750000000
