0.2500000000
0.0000000000
0.0000000000
-0.2500000000
436987.1250000000
320380.1250000000
