0.2500000000
0.0000000000
0.0000000000
-0.2500000000
437077.3750000000
322656.3750000000
