0.2500000000
0.0000000000
0.0000000000
-0.2500000000
450624.8750000000
324404.1250000000
