0.2500000000
0.0000000000
0.0000000000
-0.2500000000
450713.6250000000
326680.6250000000
