0.2500000000
0.0000000000
0.0000000000
-0.2500000000
447260.3750000000
324535.6250000000
