0.2500000000
0.0000000000
0.0000000000
-0.2500000000
447349.6250000000
326812.1250000000
