0.2500000000
0.0000000000
0.0000000000
-0.2500000000
443896.1250000000
324667.3750000000
