0.2500000000
0.0000000000
0.0000000000
-0.2500000000
443985.6250000000
326943.8750000000
