0.2500000000
0.0000000000
0.0000000000
-0.2500000000
440531.8750000000
324799.8750000000
