0.2500000000
0.0000000000
0.0000000000
-0.2500000000
440621.6250000000
327076.3750000000
