0.2500000000
0.0000000000
0.0000000000
-0.2500000000
437167.3750000000
324932.8750000000
