0.2500000000
0.0000000000
0.0000000000
-0.2500000000
437257.6250000000
327209.3750000000
