0.2500000000
0.0000000000
0.0000000000
-0.2500000000
450802.3750000000
328957.1250000000
