0.2500000000
0.0000000000
0.0000000000
-0.2500000000
450891.1250000000
331233.6250000000
