0.2500000000
0.0000000000
0.0000000000
-0.2500000000
447438.6250000000
329088.3750000000
