0.2500000000
0.0000000000
0.0000000000
-0.2500000000
447527.8750000000
331364.8750000000
