0.2500000000
0.0000000000
0.0000000000
-0.2500000000
444075.1250000000
329220.3750000000
