0.2500000000
0.0000000000
0.0000000000
-0.2500000000
444164.3750000000
331496.8750000000
