0.2500000000
0.0000000000
0.0000000000
-0.2500000000
440711.3750000000
329352.8750000000
