0.2500000000
0.0000000000
0.0000000000
-0.2500000000
440801.1250000000
331629.3750000000
