0.2500000000
0.0000000000
0.0000000000
-0.2500000000
437347.8750000000
329485.8750000000
