0.2500000000
0.0000000000
0.0000000000
-0.2500000000
437437.8750000000
331762.1250000000
