0.2500000000
0.0000000000
0.0000000000
-0.2500000000
450979.8750000000
333510.1250000000
