0.2500000000
0.0000000000
0.0000000000
-0.2500000000
451068.6250000000
335786.6250000000
