0.2500000000
0.0000000000
0.0000000000
-0.2500000000
447616.8750000000
333641.3750000000
