0.2500000000
0.0000000000
0.0000000000
-0.2500000000
447706.1250000000
335917.8750000000
