0.2500000000
0.0000000000
0.0000000000
-0.2500000000
444253.8750000000
333773.3750000000
