0.2500000000
0.0000000000
0.0000000000
-0.2500000000
444343.3750000000
336049.8750000000
