0.2500000000
0.0000000000
0.0000000000
-0.2500000000
440890.8750000000
333905.6250000000
