0.2500000000
0.0000000000
0.0000000000
-0.2500000000
440980.8750000000
336182.1250000000
