0.2500000000
0.0000000000
0.0000000000
-0.2500000000
437528.1250000000
334038.6250000000
