0.2500000000
0.0000000000
0.0000000000
-0.2500000000
437618.1250000000
336315.1250000000
